BEGIN:VCALENDAR
VERSION:2.0
PRODID:-//Cultural Centre in Bird Island - ECPv6.15.20//NONSGML v1.0//EN
CALSCALE:GREGORIAN
METHOD:PUBLISH
X-WR-CALNAME:Cultural Centre in Bird Island
X-ORIGINAL-URL:https://birdislandculture.com
X-WR-CALDESC:Events for Cultural Centre in Bird Island
REFRESH-INTERVAL;VALUE=DURATION:PT1H
X-Robots-Tag:noindex
X-PUBLISHED-TTL:PT1H
BEGIN:VTIMEZONE
TZID:America/New_York
BEGIN:DAYLIGHT
TZOFFSETFROM:-0500
TZOFFSETTO:-0400
TZNAME:EDT
DTSTART:20220313T070000
END:DAYLIGHT
BEGIN:STANDARD
TZOFFSETFROM:-0400
TZOFFSETTO:-0500
TZNAME:EST
DTSTART:20221106T060000
END:STANDARD
BEGIN:DAYLIGHT
TZOFFSETFROM:-0500
TZOFFSETTO:-0400
TZNAME:EDT
DTSTART:20230312T070000
END:DAYLIGHT
BEGIN:STANDARD
TZOFFSETFROM:-0400
TZOFFSETTO:-0500
TZNAME:EST
DTSTART:20231105T060000
END:STANDARD
BEGIN:DAYLIGHT
TZOFFSETFROM:-0500
TZOFFSETTO:-0400
TZNAME:EDT
DTSTART:20240310T070000
END:DAYLIGHT
BEGIN:STANDARD
TZOFFSETFROM:-0400
TZOFFSETTO:-0500
TZNAME:EST
DTSTART:20241103T060000
END:STANDARD
BEGIN:DAYLIGHT
TZOFFSETFROM:-0500
TZOFFSETTO:-0400
TZNAME:EDT
DTSTART:20250309T070000
END:DAYLIGHT
BEGIN:STANDARD
TZOFFSETFROM:-0400
TZOFFSETTO:-0500
TZNAME:EST
DTSTART:20251102T060000
END:STANDARD
END:VTIMEZONE
BEGIN:VEVENT
DTSTART;TZID=America/New_York:20240509T183000
DTEND;TZID=America/New_York:20240509T203000
DTSTAMP:20260420T085610
CREATED:20240502T164027Z
LAST-MODIFIED:20240502T164027Z
UID:9344-1715279400-1715286600@birdislandculture.com
SUMMARY:Bird Island Lions Club
DESCRIPTION:Bird Island Lions Club meeting
URL:https://birdislandculture.com/event/bird-island-lions-club-5/
LOCATION:The Cultural Centre\, 640 Dogwood Avenue\, Bird Island\, MN\, 55310\, United States
CATEGORIES:Lions Club
ATTACH;FMTTYPE=image/png:https://birdislandculture.com/wp-content/uploads/2022/01/Lions-Logo.png
END:VEVENT
BEGIN:VEVENT
DTSTART;TZID=America/New_York:20240425T183000
DTEND;TZID=America/New_York:20240425T203000
DTSTAMP:20260420T085610
CREATED:20240422T031351Z
LAST-MODIFIED:20240422T031351Z
UID:9276-1714069800-1714077000@birdislandculture.com
SUMMARY:Bird Island Lions Club
DESCRIPTION:Bird Island Lions Club meeting.
URL:https://birdislandculture.com/event/bird-island-lions-club-4/
LOCATION:The Cultural Centre\, 640 Dogwood Avenue\, Bird Island\, MN\, 55310\, United States
CATEGORIES:Lions Club
ATTACH;FMTTYPE=image/png:https://birdislandculture.com/wp-content/uploads/2022/01/Lions-Logo.png
END:VEVENT
BEGIN:VEVENT
DTSTART;TZID=America/New_York:20240411T183000
DTEND;TZID=America/New_York:20240411T203000
DTSTAMP:20260420T085610
CREATED:20240411T171105Z
LAST-MODIFIED:20240411T171105Z
UID:9171-1712860200-1712867400@birdislandculture.com
SUMMARY:Bird Island Lions Club
DESCRIPTION:Bird Island Lions Club meeting. \n 
URL:https://birdislandculture.com/event/bird-island-lions-club-3/
LOCATION:The Cultural Centre\, 640 Dogwood Avenue\, Bird Island\, MN\, 55310\, United States
CATEGORIES:Lions Club
ATTACH;FMTTYPE=image/png:https://birdislandculture.com/wp-content/uploads/2022/01/Lions-Logo.png
END:VEVENT
BEGIN:VEVENT
DTSTART;TZID=America/New_York:20240328T183000
DTEND;TZID=America/New_York:20240328T203000
DTSTAMP:20260420T085610
CREATED:20240312T171630Z
LAST-MODIFIED:20240312T171630Z
UID:9050-1711650600-1711657800@birdislandculture.com
SUMMARY:Bird Island Lions Club
DESCRIPTION:Bird Island Lions Club meeting
URL:https://birdislandculture.com/event/bird-island-lions-club-2/
LOCATION:The Cultural Centre\, 640 Dogwood Avenue\, Bird Island\, MN\, 55310\, United States
CATEGORIES:Lions Club
ATTACH;FMTTYPE=image/jpeg:https://birdislandculture.com/wp-content/uploads/2022/01/Bird-Island-Lions.jpg
END:VEVENT
BEGIN:VEVENT
DTSTART;TZID=America/New_York:20240314T183000
DTEND;TZID=America/New_York:20240314T203000
DTSTAMP:20260420T085610
CREATED:20240312T170824Z
LAST-MODIFIED:20240312T170824Z
UID:9047-1710441000-1710448200@birdislandculture.com
SUMMARY:Bird Island Lions Club meeting
DESCRIPTION:Bird Island Lions Club meeting
URL:https://birdislandculture.com/event/bird-island-lions-club-meeting-10/
LOCATION:The Cultural Centre\, 640 Dogwood Avenue\, Bird Island\, MN\, 55310\, United States
CATEGORIES:Lions Club
ATTACH;FMTTYPE=image/jpeg:https://birdislandculture.com/wp-content/uploads/2022/01/Bird-Island-Lions.jpg
END:VEVENT
BEGIN:VEVENT
DTSTART;TZID=America/New_York:20240125T180000
DTEND;TZID=America/New_York:20240125T180000
DTSTAMP:20260420T085610
CREATED:20231116T215511Z
LAST-MODIFIED:20231116T215511Z
UID:8317-1706205600-1706205600@birdislandculture.com
SUMMARY:Bird Island Lions Club meeting
DESCRIPTION:Bird Island Lions Club meeting
URL:https://birdislandculture.com/event/bird-island-lions-club-meeting-9/
LOCATION:The Cultural Centre\, 640 Dogwood Avenue\, Bird Island\, MN\, 55310\, United States
CATEGORIES:Lions Club
ATTACH;FMTTYPE=image/jpeg:https://birdislandculture.com/wp-content/uploads/2022/01/Bird-Island-Lions.jpg
END:VEVENT
BEGIN:VEVENT
DTSTART;TZID=America/New_York:20240111T180000
DTEND;TZID=America/New_York:20240111T180000
DTSTAMP:20260420T085610
CREATED:20231116T215404Z
LAST-MODIFIED:20231116T215404Z
UID:8315-1704996000-1704996000@birdislandculture.com
SUMMARY:Bird Island Lion's Club Meeting
DESCRIPTION:Bird Island Lions Club meeting
URL:https://birdislandculture.com/event/bird-island-lions-club-meeting-8/
LOCATION:The Cultural Centre\, 640 Dogwood Avenue\, Bird Island\, MN\, 55310\, United States
CATEGORIES:Lions Club
ATTACH;FMTTYPE=image/jpeg:https://birdislandculture.com/wp-content/uploads/2022/01/Bird-Island-Lions.jpg
END:VEVENT
BEGIN:VEVENT
DTSTART;VALUE=DATE:20231214
DTEND;VALUE=DATE:20231215
DTSTAMP:20260420T085610
CREATED:20231116T202843Z
LAST-MODIFIED:20231116T202843Z
UID:8244-1702512000-1702598399@birdislandculture.com
SUMMARY:Private Event: Lions Club Christmas Party
DESCRIPTION:Closed to the public. \nFor Event Rental information click Event Rental | Cultural Centre in Bird Island
URL:https://birdislandculture.com/event/private-event-lions-club-christmas-party/
LOCATION:The Cultural Centre\, 640 Dogwood Avenue\, Bird Island\, MN\, 55310\, United States
CATEGORIES:Lions Club,Private Event
ATTACH;FMTTYPE=image/jpeg:https://birdislandculture.com/wp-content/uploads/2023/11/christmas-tree.jpg
END:VEVENT
BEGIN:VEVENT
DTSTART;TZID=America/New_York:20231109T180000
DTEND;TZID=America/New_York:20231109T180000
DTSTAMP:20260420T085610
CREATED:20231103T225326Z
LAST-MODIFIED:20231103T225350Z
UID:7941-1699552800-1699552800@birdislandculture.com
SUMMARY:Bird Island Lions Club
DESCRIPTION:Bird Island Lions Club meeting \nPrivate event
URL:https://birdislandculture.com/event/bird-island-lions-club/
LOCATION:The Cultural Centre\, 640 Dogwood Avenue\, Bird Island\, MN\, 55310\, United States
CATEGORIES:Lions Club
ATTACH;FMTTYPE=image/png:https://birdislandculture.com/wp-content/uploads/2022/01/Lions-Logo.png
END:VEVENT
END:VCALENDAR