BEGIN:VCALENDAR
VERSION:2.0
PRODID:-//Cultural Centre in Bird Island - ECPv6.15.20//NONSGML v1.0//EN
CALSCALE:GREGORIAN
METHOD:PUBLISH
X-WR-CALNAME:Cultural Centre in Bird Island
X-ORIGINAL-URL:https://birdislandculture.com
X-WR-CALDESC:Events for Cultural Centre in Bird Island
REFRESH-INTERVAL;VALUE=DURATION:PT1H
X-Robots-Tag:noindex
X-PUBLISHED-TTL:PT1H
BEGIN:VTIMEZONE
TZID:America/New_York
BEGIN:DAYLIGHT
TZOFFSETFROM:-0500
TZOFFSETTO:-0400
TZNAME:EDT
DTSTART:20180311T070000
END:DAYLIGHT
BEGIN:STANDARD
TZOFFSETFROM:-0400
TZOFFSETTO:-0500
TZNAME:EST
DTSTART:20181104T060000
END:STANDARD
BEGIN:DAYLIGHT
TZOFFSETFROM:-0500
TZOFFSETTO:-0400
TZNAME:EDT
DTSTART:20190310T070000
END:DAYLIGHT
BEGIN:STANDARD
TZOFFSETFROM:-0400
TZOFFSETTO:-0500
TZNAME:EST
DTSTART:20191103T060000
END:STANDARD
BEGIN:DAYLIGHT
TZOFFSETFROM:-0500
TZOFFSETTO:-0400
TZNAME:EDT
DTSTART:20200308T070000
END:DAYLIGHT
BEGIN:STANDARD
TZOFFSETFROM:-0400
TZOFFSETTO:-0500
TZNAME:EST
DTSTART:20201101T060000
END:STANDARD
BEGIN:DAYLIGHT
TZOFFSETFROM:-0500
TZOFFSETTO:-0400
TZNAME:EDT
DTSTART:20210314T070000
END:DAYLIGHT
BEGIN:STANDARD
TZOFFSETFROM:-0400
TZOFFSETTO:-0500
TZNAME:EST
DTSTART:20211107T060000
END:STANDARD
BEGIN:DAYLIGHT
TZOFFSETFROM:-0500
TZOFFSETTO:-0400
TZNAME:EDT
DTSTART:20220313T070000
END:DAYLIGHT
BEGIN:STANDARD
TZOFFSETFROM:-0400
TZOFFSETTO:-0500
TZNAME:EST
DTSTART:20221106T060000
END:STANDARD
BEGIN:DAYLIGHT
TZOFFSETFROM:-0500
TZOFFSETTO:-0400
TZNAME:EDT
DTSTART:20230312T070000
END:DAYLIGHT
BEGIN:STANDARD
TZOFFSETFROM:-0400
TZOFFSETTO:-0500
TZNAME:EST
DTSTART:20231105T060000
END:STANDARD
BEGIN:DAYLIGHT
TZOFFSETFROM:-0500
TZOFFSETTO:-0400
TZNAME:EDT
DTSTART:20240310T070000
END:DAYLIGHT
BEGIN:STANDARD
TZOFFSETFROM:-0400
TZOFFSETTO:-0500
TZNAME:EST
DTSTART:20241103T060000
END:STANDARD
END:VTIMEZONE
BEGIN:VEVENT
DTSTART;TZID=America/New_York:20230501T100000
DTEND;TZID=America/New_York:20230501T170000
DTSTAMP:20260425T151735
CREATED:20230215T215321Z
LAST-MODIFIED:20230215T215321Z
UID:7055-1682935200-1682960400@birdislandculture.com
SUMMARY:Bonnie Lipinski Smith Exhibition Opening
DESCRIPTION:
URL:https://birdislandculture.com/event/bonnie-lipinski-smith-exhibition-opening/
LOCATION:The Cultural Centre\, 640 Dogwood Avenue\, Bird Island\, MN\, 55310\, United States
CATEGORIES:Community,Exhibitions
END:VEVENT
BEGIN:VEVENT
DTSTART;TZID=America/New_York:20230422T130000
DTEND;TZID=America/New_York:20230422T150000
DTSTAMP:20260425T151735
CREATED:20230215T211714Z
LAST-MODIFIED:20230215T211714Z
UID:7017-1682168400-1682175600@birdislandculture.com
SUMMARY:Artist Reception | Bradley Donner
DESCRIPTION:
URL:https://birdislandculture.com/event/artist-reception-bradley-donner/
LOCATION:The Cultural Centre\, 640 Dogwood Avenue\, Bird Island\, MN\, 55310\, United States
CATEGORIES:Artist Receptions,Community,Exhibitions
ORGANIZER;CN="Rosemary Glesener":MAILTO:rglesener@gmail.com
END:VEVENT
BEGIN:VEVENT
DTSTART;TZID=America/New_York:20230404T100000
DTEND;TZID=America/New_York:20230404T170000
DTSTAMP:20260425T151735
CREATED:20230215T211341Z
LAST-MODIFIED:20230215T211341Z
UID:7012-1680602400-1680627600@birdislandculture.com
SUMMARY:Bradley Donner Exhibition Opening
DESCRIPTION:
URL:https://birdislandculture.com/event/bradley-donner-exhibition-opening/
LOCATION:The Cultural Centre\, 640 Dogwood Avenue\, Bird Island\, MN\, 55310\, United States
CATEGORIES:Community,Exhibitions
ORGANIZER;CN="Rosemary Glesener":MAILTO:rglesener@gmail.com
END:VEVENT
BEGIN:VEVENT
DTSTART;TZID=America/New_York:20230324T100000
DTEND;TZID=America/New_York:20230324T170000
DTSTAMP:20260425T151735
CREATED:20230215T194719Z
LAST-MODIFIED:20230215T194803Z
UID:6966-1679652000-1679677200@birdislandculture.com
SUMMARY:Justin Beck Exhibition Last Viewing Day
DESCRIPTION:The Cultural Centre in Bird Island is honored to present the works of Justin Beck. The exhibition will be available for viewing March 6th – March 24th\, Monday through Fridays 10a.m.- 5p.m.
URL:https://birdislandculture.com/event/justin-beck-last-viewing-day/
LOCATION:The Cultural Centre\, 640 Dogwood Avenue\, Bird Island\, MN\, 55310\, United States
CATEGORIES:Community,Exhibitions
ORGANIZER;CN="Rosemary Glesener":MAILTO:rglesener@gmail.com
END:VEVENT
BEGIN:VEVENT
DTSTART;TZID=America/New_York:20230306T100000
DTEND;TZID=America/New_York:20230306T170000
DTSTAMP:20260425T151735
CREATED:20230215T194004Z
LAST-MODIFIED:20230215T194426Z
UID:6959-1678096800-1678122000@birdislandculture.com
SUMMARY:Justin Beck 'Eulogies' Exhibition Opens
DESCRIPTION:The Cultural Centre in Bird Island is honored to present the works of Justin Beck. The exhibition will be available for viewing March 6th – March 24th\, Monday through Fridays 10a.m.- 5p.m.
URL:https://birdislandculture.com/event/justin-beck-eulogies-exhibition-opens/
LOCATION:The Cultural Centre\, 640 Dogwood Avenue\, Bird Island\, MN\, 55310\, United States
CATEGORIES:Community,Exhibitions
ORGANIZER;CN="Rosemary Glesener":MAILTO:rglesener@gmail.com
END:VEVENT
BEGIN:VEVENT
DTSTART;TZID=America/New_York:20230228T100000
DTEND;TZID=America/New_York:20230228T170000
DTSTAMP:20260425T151735
CREATED:20230215T175349Z
LAST-MODIFIED:20230215T175349Z
UID:6932-1677578400-1677603600@birdislandculture.com
SUMMARY:Last Day to View Celeste Suter Exhibition
DESCRIPTION:The Cultural Centre in Bird Island is honored to present the works of Celeste Suter. The exhibition of Yarn and Fiber Art will be available for viewing February 4th – February 28th Monday through Fridays 10a.m.-5p.m.
URL:https://birdislandculture.com/event/last-day-to-view-celeste-suter-exhibition/
LOCATION:The Cultural Centre\, 640 Dogwood Avenue\, Bird Island\, MN\, 55310\, United States
CATEGORIES:Community,Exhibitions
ATTACH;FMTTYPE=image/jpeg:https://birdislandculture.com/wp-content/uploads/2023/02/Suter-Event-Photo.jpg
ORGANIZER;CN="Rosemary Glesener":MAILTO:rglesener@gmail.com
END:VEVENT
BEGIN:VEVENT
DTSTART;TZID=America/New_York:20230211T130000
DTEND;TZID=America/New_York:20230211T150000
DTSTAMP:20260425T151735
CREATED:20230211T181816Z
LAST-MODIFIED:20230215T185503Z
UID:6936-1676120400-1676127600@birdislandculture.com
SUMMARY:Artist Reception | Celeste Suter
DESCRIPTION:Join us in welcoming Celeste Suter who will be demonstrating yard spinning\, as well as answering your questions and discussing her work. \nThe Cultural Centre in Bird Island is honored to present the works of Celeste Suter. The exhibition of Yarn and Fiber Art will be available for viewing February 4th – February 28th Monday through Fridays 10a.m.-5p.m.
URL:https://birdislandculture.com/event/artist-reception-celeste-suter/
LOCATION:The Cultural Centre\, 640 Dogwood Avenue\, Bird Island\, MN\, 55310\, United States
CATEGORIES:Artist Receptions,Community,Exhibitions
ATTACH;FMTTYPE=image/jpeg:https://birdislandculture.com/wp-content/uploads/2023/02/Suter-Head-Shot.jpg
ORGANIZER;CN="Rosemary Glesener":MAILTO:rglesener@gmail.com
END:VEVENT
BEGIN:VEVENT
DTSTART;TZID=America/New_York:20230206T100000
DTEND;TZID=America/New_York:20230206T170000
DTSTAMP:20260425T151735
CREATED:20230215T192407Z
LAST-MODIFIED:20230215T192407Z
UID:6941-1675677600-1675702800@birdislandculture.com
SUMMARY:Celeste Suter Exhibition Opens
DESCRIPTION:The Cultural Centre in Bird Island is honored to present the works of Celeste Suter. The exhibition of Yarn and Fiber Art will be available for viewing February 4th – February 28th Monday through Fridays 10a.m.- 5p.m.
URL:https://birdislandculture.com/event/celeste-suter-exhibition-opens/
LOCATION:The Cultural Centre\, 640 Dogwood Avenue\, Bird Island\, MN\, 55310\, United States
CATEGORIES:Community,Exhibitions
ATTACH;FMTTYPE=image/jpeg:https://birdislandculture.com/wp-content/uploads/2023/02/Suter-Event-Photo.jpg
ORGANIZER;CN="Rosemary Glesener":MAILTO:rglesener@gmail.com
END:VEVENT
BEGIN:VEVENT
DTSTART;VALUE=DATE:20190902
DTEND;VALUE=DATE:20190928
DTSTAMP:20260425T151735
CREATED:20190717T152005Z
LAST-MODIFIED:20190717T161350Z
UID:2230-1567382400-1569628799@birdislandculture.com
SUMMARY:Gathering Friends Quilt Exhibition
DESCRIPTION:
URL:https://birdislandculture.com/event/gathering-friends-quilt-exhibition/
LOCATION:The Cultural Centre\, 640 Dogwood Avenue\, Bird Island\, MN\, 55310\, United States
CATEGORIES:Exhibitions
END:VEVENT
BEGIN:VEVENT
DTSTART;TZID=America/New_York:20190817T140000
DTEND;TZID=America/New_York:20190817T170000
DTSTAMP:20260425T151735
CREATED:20190717T151840Z
LAST-MODIFIED:20190717T161424Z
UID:2228-1566050400-1566061200@birdislandculture.com
SUMMARY:John White Artist Reception
DESCRIPTION:
URL:https://birdislandculture.com/event/john-white-artist-reception/
LOCATION:The Cultural Centre\, 640 Dogwood Avenue\, Bird Island\, MN\, 55310\, United States
CATEGORIES:Artist Receptions,Exhibitions
END:VEVENT
BEGIN:VEVENT
DTSTART;VALUE=DATE:20190802
DTEND;VALUE=DATE:20190830
DTSTAMP:20260425T151735
CREATED:20190717T151507Z
LAST-MODIFIED:20190805T143129Z
UID:2224-1564704000-1567123199@birdislandculture.com
SUMMARY:John White Photography Exhibition
DESCRIPTION:
URL:https://birdislandculture.com/event/john-white-photography-exhibition/
LOCATION:The Cultural Centre\, 640 Dogwood Avenue\, Bird Island\, MN\, 55310\, United States
CATEGORIES:Exhibitions
END:VEVENT
BEGIN:VEVENT
DTSTART;VALUE=DATE:20190629
DTEND;VALUE=DATE:20190730
DTSTAMP:20260425T151735
CREATED:20190717T152423Z
LAST-MODIFIED:20190717T161212Z
UID:2232-1561766400-1564444799@birdislandculture.com
SUMMARY:The Fine Art of Renae Saunders Exhibition
DESCRIPTION:We encourage you to view the Watercolor Exhibition of Renae Saunders. Each painting inspires your story & encourages you to cherish those treasured moments of your life. An artist reception will take place on June 29th from 2-5pm.
URL:https://birdislandculture.com/event/the-fine-art-of-renae-saunders-exhibition/
LOCATION:The Cultural Centre\, 640 Dogwood Avenue\, Bird Island\, MN\, 55310\, United States
CATEGORIES:Artist Receptions,Exhibitions
END:VEVENT
END:VCALENDAR