BEGIN:VCALENDAR
VERSION:2.0
PRODID:-//Cultural Centre in Bird Island - ECPv6.15.20//NONSGML v1.0//EN
CALSCALE:GREGORIAN
METHOD:PUBLISH
X-WR-CALNAME:Cultural Centre in Bird Island
X-ORIGINAL-URL:https://birdislandculture.com
X-WR-CALDESC:Events for Cultural Centre in Bird Island
REFRESH-INTERVAL;VALUE=DURATION:PT1H
X-Robots-Tag:noindex
X-PUBLISHED-TTL:PT1H
BEGIN:VTIMEZONE
TZID:America/New_York
BEGIN:DAYLIGHT
TZOFFSETFROM:-0500
TZOFFSETTO:-0400
TZNAME:EDT
DTSTART:20180311T070000
END:DAYLIGHT
BEGIN:STANDARD
TZOFFSETFROM:-0400
TZOFFSETTO:-0500
TZNAME:EST
DTSTART:20181104T060000
END:STANDARD
BEGIN:DAYLIGHT
TZOFFSETFROM:-0500
TZOFFSETTO:-0400
TZNAME:EDT
DTSTART:20190310T070000
END:DAYLIGHT
BEGIN:STANDARD
TZOFFSETFROM:-0400
TZOFFSETTO:-0500
TZNAME:EST
DTSTART:20191103T060000
END:STANDARD
BEGIN:DAYLIGHT
TZOFFSETFROM:-0500
TZOFFSETTO:-0400
TZNAME:EDT
DTSTART:20200308T070000
END:DAYLIGHT
BEGIN:STANDARD
TZOFFSETFROM:-0400
TZOFFSETTO:-0500
TZNAME:EST
DTSTART:20201101T060000
END:STANDARD
BEGIN:DAYLIGHT
TZOFFSETFROM:-0500
TZOFFSETTO:-0400
TZNAME:EDT
DTSTART:20210314T070000
END:DAYLIGHT
BEGIN:STANDARD
TZOFFSETFROM:-0400
TZOFFSETTO:-0500
TZNAME:EST
DTSTART:20211107T060000
END:STANDARD
BEGIN:DAYLIGHT
TZOFFSETFROM:-0500
TZOFFSETTO:-0400
TZNAME:EDT
DTSTART:20220313T070000
END:DAYLIGHT
BEGIN:STANDARD
TZOFFSETFROM:-0400
TZOFFSETTO:-0500
TZNAME:EST
DTSTART:20221106T060000
END:STANDARD
BEGIN:DAYLIGHT
TZOFFSETFROM:-0500
TZOFFSETTO:-0400
TZNAME:EDT
DTSTART:20230312T070000
END:DAYLIGHT
BEGIN:STANDARD
TZOFFSETFROM:-0400
TZOFFSETTO:-0500
TZNAME:EST
DTSTART:20231105T060000
END:STANDARD
BEGIN:DAYLIGHT
TZOFFSETFROM:-0500
TZOFFSETTO:-0400
TZNAME:EDT
DTSTART:20240310T070000
END:DAYLIGHT
BEGIN:STANDARD
TZOFFSETFROM:-0400
TZOFFSETTO:-0500
TZNAME:EST
DTSTART:20241103T060000
END:STANDARD
BEGIN:DAYLIGHT
TZOFFSETFROM:-0500
TZOFFSETTO:-0400
TZNAME:EDT
DTSTART:20250309T070000
END:DAYLIGHT
BEGIN:STANDARD
TZOFFSETFROM:-0400
TZOFFSETTO:-0500
TZNAME:EST
DTSTART:20251102T060000
END:STANDARD
BEGIN:DAYLIGHT
TZOFFSETFROM:-0500
TZOFFSETTO:-0400
TZNAME:EDT
DTSTART:20260308T070000
END:DAYLIGHT
BEGIN:STANDARD
TZOFFSETFROM:-0400
TZOFFSETTO:-0500
TZNAME:EST
DTSTART:20261101T060000
END:STANDARD
END:VTIMEZONE
BEGIN:VEVENT
DTSTART;TZID=America/New_York:20250626T100000
DTEND;TZID=America/New_York:20250626T170000
DTSTAMP:20260425T122840
CREATED:20250527T181522Z
LAST-MODIFIED:20250527T181522Z
UID:10382-1750932000-1750957200@birdislandculture.com
SUMMARY:Doug Peterson Art Exhibition Closes
DESCRIPTION:Art Exhibition June 7 – 26\, 2025
URL:https://birdislandculture.com/event/doug-peterson-art-exhibition-closes/
LOCATION:The Cultural Centre\, 640 Dogwood Avenue\, Bird Island\, MN\, 55310\, United States
CATEGORIES:Exhibitions
ATTACH;FMTTYPE=image/jpeg:https://birdislandculture.com/wp-content/uploads/2025/05/20250527_094313-rotated.jpg
END:VEVENT
BEGIN:VEVENT
DTSTART;TZID=America/New_York:20250607T100000
DTEND;TZID=America/New_York:20250607T170000
DTSTAMP:20260425T122840
CREATED:20250527T180935Z
LAST-MODIFIED:20250527T180935Z
UID:10375-1749290400-1749315600@birdislandculture.com
SUMMARY:Doug Peterson Exhibition Opens
DESCRIPTION:Doug Peterson art exhibition June 7-26\, 2025 | Artist reception June 7\, 1 pm to 3 pm
URL:https://birdislandculture.com/event/doug-peterson-exhibition-opens/
LOCATION:The Cultural Centre\, 640 Dogwood Avenue\, Bird Island\, MN\, 55310\, United States
CATEGORIES:Exhibitions
ATTACH;FMTTYPE=image/jpeg:https://birdislandculture.com/wp-content/uploads/2025/05/20250527_094313-rotated.jpg
END:VEVENT
BEGIN:VEVENT
DTSTART;TZID=America/New_York:20250501T100000
DTEND;TZID=America/New_York:20250501T170000
DTSTAMP:20260425T122840
CREATED:20250430T163948Z
LAST-MODIFIED:20250430T163948Z
UID:10322-1746093600-1746118800@birdislandculture.com
SUMMARY:ME Fuller Art Exhibition - Opens
DESCRIPTION:May 1-23 | Artist\, Author\, Workshop Facilitator | mefuller.com
URL:https://birdislandculture.com/event/me-fuller-art-exhibition-opens/
LOCATION:The Cultural Centre\, 640 Dogwood Avenue\, Bird Island\, MN\, 55310\, United States
CATEGORIES:Exhibitions
ATTACH;FMTTYPE=image/png:https://birdislandculture.com/wp-content/uploads/2025/04/mefullermayexhibit25.png
END:VEVENT
BEGIN:VEVENT
DTSTART;TZID=America/New_York:20241104T080000
DTEND;TZID=America/New_York:20241104T170000
DTSTAMP:20260425T122840
CREATED:20241111T205516Z
LAST-MODIFIED:20241111T205516Z
UID:9856-1730707200-1730739600@birdislandculture.com
SUMMARY:Tom & Sheila Jacobs Exhibition Begins
DESCRIPTION:“Stewards of Art and Earth”
URL:https://birdislandculture.com/event/tom-sheila-jacobs-exhibition-begins/
LOCATION:The Cultural Centre\, 640 Dogwood Avenue\, Bird Island\, MN\, 55310\, United States
CATEGORIES:Exhibitions
ATTACH;FMTTYPE=image/png:https://birdislandculture.com/wp-content/uploads/2024/11/jacobs.png
END:VEVENT
BEGIN:VEVENT
DTSTART;TZID=America/New_York:20241025T080000
DTEND;TZID=America/New_York:20241025T170000
DTSTAMP:20260425T122840
CREATED:20241015T172703Z
LAST-MODIFIED:20241015T172703Z
UID:9783-1729843200-1729875600@birdislandculture.com
SUMMARY:Gerhardt Miller Exhibition Ends
DESCRIPTION:Beauty\, Harmony\, and Proportion | October 1-25\, 2024
URL:https://birdislandculture.com/event/gerhardt-miller-exhibition-ends/
LOCATION:The Cultural Centre\, 640 Dogwood Avenue\, Bird Island\, MN\, 55310\, United States
CATEGORIES:Exhibitions
ATTACH;FMTTYPE=image/jpeg:https://birdislandculture.com/wp-content/uploads/2024/10/IMG_4445.jpg
END:VEVENT
BEGIN:VEVENT
DTSTART;TZID=America/New_York:20241001T080000
DTEND;TZID=America/New_York:20241001T170000
DTSTAMP:20260425T122840
CREATED:20241015T171836Z
LAST-MODIFIED:20241015T171836Z
UID:9779-1727769600-1727802000@birdislandculture.com
SUMMARY:Gerhardt Miller Exhibition Begins
DESCRIPTION:Beauty\, Harmony\, and Proportion | October 1-25\, 2024 | Artist Reception: October 19\, 2024\, 1pm-3pm
URL:https://birdislandculture.com/event/gerhardt-miller-exhibition-begins/
LOCATION:The Cultural Centre\, 640 Dogwood Avenue\, Bird Island\, MN\, 55310\, United States
CATEGORIES:Exhibitions
ATTACH;FMTTYPE=image/jpeg:https://birdislandculture.com/wp-content/uploads/2024/10/IMG_4445.jpg
END:VEVENT
BEGIN:VEVENT
DTSTART;TZID=America/New_York:20240906T100000
DTEND;TZID=America/New_York:20240906T170000
DTSTAMP:20260425T122840
CREATED:20240905T014521Z
LAST-MODIFIED:20240905T014521Z
UID:9617-1725616800-1725642000@birdislandculture.com
SUMMARY:Olivia Hoppe Exhibition - Begins
DESCRIPTION:The Sustainable Art of Olivia Hoppe \n“Connections” \nSeptember 6-26\, 2024
URL:https://birdislandculture.com/event/olivia-hoppe-exhibition-begins/
LOCATION:The Cultural Centre\, 640 Dogwood Avenue\, Bird Island\, MN\, 55310\, United States
CATEGORIES:Exhibitions
ATTACH;FMTTYPE=image/png:https://birdislandculture.com/wp-content/uploads/2024/09/olivia-hoppe-work-1.png
END:VEVENT
BEGIN:VEVENT
DTSTART;TZID=America/New_York:20240823T080000
DTEND;TZID=America/New_York:20240823T170000
DTSTAMP:20260425T122840
CREATED:20240812T171329Z
LAST-MODIFIED:20240812T171329Z
UID:9490-1724400000-1724432400@birdislandculture.com
SUMMARY:ACTS:Breaking Barriers Exhibition - Ends
DESCRIPTION:Breaking Barriers \nAugust 5\, 2024 – August 23\, 2024 \nArtist Reception Saturday\, August 17 from 1pm to 3pm
URL:https://birdislandculture.com/event/actsbreaking-barriers-exhibition-ends/
LOCATION:The Cultural Centre\, 640 Dogwood Avenue\, Bird Island\, MN\, 55310\, United States
CATEGORIES:Exhibitions
ATTACH;FMTTYPE=image/png:https://birdislandculture.com/wp-content/uploads/2024/08/acts-demo-pic.png
END:VEVENT
BEGIN:VEVENT
DTSTART;TZID=America/New_York:20240805T080000
DTEND;TZID=America/New_York:20240805T170000
DTSTAMP:20260425T122840
CREATED:20240812T171053Z
LAST-MODIFIED:20240812T171053Z
UID:9486-1722844800-1722877200@birdislandculture.com
SUMMARY:ACTS:Breaking Barriers Exhibition - Begins
DESCRIPTION:Breaking Barriers \nAugust 5\, 2024 – August 23\, 2024 \nArtist Reception Saturday\, August 17 from 1pm to 3pm
URL:https://birdislandculture.com/event/actsbreaking-barriers-exhibition-begins/
LOCATION:The Cultural Centre\, 640 Dogwood Avenue\, Bird Island\, MN\, 55310\, United States
CATEGORIES:Exhibitions
ATTACH;FMTTYPE=image/png:https://birdislandculture.com/wp-content/uploads/2024/08/acts-demo-pic.png
END:VEVENT
BEGIN:VEVENT
DTSTART;TZID=America/New_York:20240525T000000
DTEND;TZID=America/New_York:20240525T000000
DTSTAMP:20260425T122840
CREATED:20240502T164515Z
LAST-MODIFIED:20240502T164700Z
UID:9348-1716595200-1716595200@birdislandculture.com
SUMMARY:John White & Jean Menden Exhibition Closes
DESCRIPTION:John White & Jean Menden Exhibition Closes \nMay 1st to May 25
URL:https://birdislandculture.com/event/john-white-jean-menden-exhibition-closes/
LOCATION:The Cultural Centre\, 640 Dogwood Avenue\, Bird Island\, MN\, 55310\, United States
CATEGORIES:Exhibitions
ATTACH;FMTTYPE=image/jpeg:https://birdislandculture.com/wp-content/uploads/2024/05/may.jpg
END:VEVENT
BEGIN:VEVENT
DTSTART;VALUE=DATE:20240501
DTEND;VALUE=DATE:20240502
DTSTAMP:20260425T122840
CREATED:20240502T155750Z
LAST-MODIFIED:20240502T164213Z
UID:9307-1714521600-1714607999@birdislandculture.com
SUMMARY:John White & Jean Menden Exhibition Opens
DESCRIPTION:The Cultural Centre is delighted to host John White\, Prairie Landscape Photographer and Silversmith\, Jean Menden\, from May 1st through May 25th. One of John’s photographs is the 2024 Minnesota State Park sticker and Jean’s had-crafted Silver Jewelry is an ideal gift for Mother’s Day!
URL:https://birdislandculture.com/event/john-white-jean-menden/
LOCATION:The Cultural Centre\, 640 Dogwood Avenue\, Bird Island\, MN\, 55310\, United States
CATEGORIES:Exhibitions
ATTACH;FMTTYPE=image/jpeg:https://birdislandculture.com/wp-content/uploads/2024/05/may.jpg
END:VEVENT
BEGIN:VEVENT
DTSTART;TZID=America/New_York:20240420T130000
DTEND;TZID=America/New_York:20240420T150000
DTSTAMP:20260425T122840
CREATED:20240422T031743Z
LAST-MODIFIED:20240422T031743Z
UID:9278-1713618000-1713625200@birdislandculture.com
SUMMARY:Ron Adams Artist Reception
DESCRIPTION:Ron Adams \n“The Mastery of Drawing” \nExhibition: April 1st-27th \nArtist Reception: Saturday\, April 20th 1-3 pm
URL:https://birdislandculture.com/event/ron-adams-artist-reception/
LOCATION:The Cultural Centre\, 640 Dogwood Avenue\, Bird Island\, MN\, 55310\, United States
CATEGORIES:Artist Receptions,Exhibitions
ATTACH;FMTTYPE=image/jpeg:https://birdislandculture.com/wp-content/uploads/2024/04/Ron-Adams.jpg
END:VEVENT
BEGIN:VEVENT
DTSTART;TZID=America/New_York:20240327T100000
DTEND;TZID=America/New_York:20240327T170000
DTSTAMP:20260425T122840
CREATED:20240221T144145Z
LAST-MODIFIED:20240221T144300Z
UID:8946-1711533600-1711558800@birdislandculture.com
SUMMARY:Mark Haen Exhibition Ends
DESCRIPTION:
URL:https://birdislandculture.com/event/mark-haen-exhibition-ends/
LOCATION:The Cultural Centre\, 640 Dogwood Avenue\, Bird Island\, MN\, 55310\, United States
CATEGORIES:Exhibitions
ATTACH;FMTTYPE=image/png:https://birdislandculture.com/wp-content/uploads/2024/02/MarkHaen-e1710261280339.png
END:VEVENT
BEGIN:VEVENT
DTSTART;TZID=America/New_York:20240316T130000
DTEND;TZID=America/New_York:20240316T150000
DTSTAMP:20260425T122840
CREATED:20240312T163854Z
LAST-MODIFIED:20240312T165048Z
UID:9041-1710594000-1710601200@birdislandculture.com
SUMMARY:Mark Haen Artist Reception
DESCRIPTION:“Curiosity in Action” Exhibition March 1st – March 27th. \nArtist Reception is on March 16\, 2024\, from 1 pm to 3 pm. \nMr. Haen will demonstrate his newest painting technique!
URL:https://birdislandculture.com/event/mark-haen-artist-reception/
LOCATION:The Cultural Centre\, 640 Dogwood Avenue\, Bird Island\, MN\, 55310\, United States
CATEGORIES:Artist Receptions,Exhibitions
ATTACH;FMTTYPE=image/png:https://birdislandculture.com/wp-content/uploads/2024/02/MarkHaen-e1710261280339.png
END:VEVENT
BEGIN:VEVENT
DTSTART;TZID=America/New_York:20240301T100000
DTEND;TZID=America/New_York:20240301T170000
DTSTAMP:20260425T122840
CREATED:20240221T143832Z
LAST-MODIFIED:20240221T144224Z
UID:8943-1709287200-1709312400@birdislandculture.com
SUMMARY:Mark Haen Exhibition Opens
DESCRIPTION:
URL:https://birdislandculture.com/event/mark-haen-exhibition-opening/
LOCATION:The Cultural Centre\, 640 Dogwood Avenue\, Bird Island\, MN\, 55310\, United States
CATEGORIES:Exhibitions
ATTACH;FMTTYPE=image/png:https://birdislandculture.com/wp-content/uploads/2024/02/MarkHaen-e1710261280339.png
END:VEVENT
BEGIN:VEVENT
DTSTART;TZID=America/New_York:20231001T130000
DTEND;TZID=America/New_York:20231001T150000
DTSTAMP:20260425T122840
CREATED:20230907T145227Z
LAST-MODIFIED:20230907T145255Z
UID:7704-1696165200-1696172400@birdislandculture.com
SUMMARY:Bill Vanderhagen Photography Exhibition Opening Day & Artist Reception
DESCRIPTION:We are incredibly excited to welcome Bill Vanderhagen back to the Cultural Centre for this incredible wildlife photography exhibition. We hope you’ll join us for his artist reception on Sunday\, October 1st from 1-3pm.
URL:https://birdislandculture.com/event/bill-vanderhagen-photography-exhibition-opening-day-artist-reception/
LOCATION:The Cultural Centre\, 640 Dogwood Avenue\, Bird Island\, MN\, 55310\, United States
CATEGORIES:Artist Receptions,Exhibitions
ATTACH;FMTTYPE=image/jpeg:https://birdislandculture.com/wp-content/uploads/2023/09/367463909_688703316629355_410028256070651221_n.jpg
ORGANIZER;CN="Rosemary Glesener":MAILTO:rglesener@gmail.com
END:VEVENT
BEGIN:VEVENT
DTSTART;TZID=America/New_York:20230922T100000
DTEND;TZID=America/New_York:20230922T170000
DTSTAMP:20260425T122840
CREATED:20230907T141815Z
LAST-MODIFIED:20230907T141815Z
UID:7690-1695376800-1695402000@birdislandculture.com
SUMMARY:Last Day of "Quilters of the Yellowstone Trail" Exhibition
DESCRIPTION:“Quilters along the Yellowstone Trail was formed following a meeting called by Helen Ann Nelson and Lena Homme of Sacred Heart\, and Bev Keltgen of Olivia in October of 1983 to explore interest in forming a quilting club. This meeting resulted in the club being formed in 1984. The name was chosen because the first five members lived along Hwy 212\, The Yellowstone Trail.” -Quilters Along the Yellowstone Trail Brochure \nThis incredible exhibit showcases dozens of quilts from this incredibly talented group of women and can be viewed at the Cultural Centre through September 22\, 2023.
URL:https://birdislandculture.com/event/last-day-of-quilters-of-the-yellowstone-trail-exhibition/
LOCATION:The Cultural Centre\, 640 Dogwood Avenue\, Bird Island\, MN\, 55310\, United States
CATEGORIES:Exhibitions
ATTACH;FMTTYPE=image/jpeg:https://birdislandculture.com/wp-content/uploads/2023/09/background-7566184_1920.jpg
ORGANIZER;CN="Rosemary Glesener":MAILTO:rglesener@gmail.com
END:VEVENT
BEGIN:VEVENT
DTSTART;TZID=America/New_York:20230901T100000
DTEND;TZID=America/New_York:20230901T170000
DTSTAMP:20260425T122840
CREATED:20230907T141615Z
LAST-MODIFIED:20230907T141615Z
UID:7686-1693562400-1693587600@birdislandculture.com
SUMMARY:"Quilters Along the Yellowstone Trail" Exhibition
DESCRIPTION:“Quilters along the Yellowstone Trail was formed following a meeting called by Helen Ann Nelson and Lena Homme of Sacred Heart\, and Bev Keltgen of Olivia in October of 1983 to explore interest in forming a quilting club. This meeting resulted in the club being formed in 1984. The name was chosen because the first five members lived along Hwy 212\, The Yellowstone Trail.” -Quilters Along the Yellowstone Trail Brochure \nThis incredible exhibit showcases dozens of quilts from this incredibly talented group of women and can be viewed at the Cultural Centre through September 22\, 2023.
URL:https://birdislandculture.com/event/quilters-along-the-yellowstone-trail-exhibition/
LOCATION:The Cultural Centre\, 640 Dogwood Avenue\, Bird Island\, MN\, 55310\, United States
CATEGORIES:Exhibitions
ATTACH;FMTTYPE=image/jpeg:https://birdislandculture.com/wp-content/uploads/2023/09/background-7566184_1920.jpg
ORGANIZER;CN="Rosemary Glesener":MAILTO:rglesener@gmail.com
END:VEVENT
BEGIN:VEVENT
DTSTART;TZID=America/New_York:20230526T100000
DTEND;TZID=America/New_York:20230526T170000
DTSTAMP:20260425T122840
CREATED:20230215T215605Z
LAST-MODIFIED:20230215T215605Z
UID:7059-1685095200-1685120400@birdislandculture.com
SUMMARY:Bonnie Lipinski Smith Last Day to View
DESCRIPTION:
URL:https://birdislandculture.com/event/bonnie-lipinski-smith-last-day-to-view/
LOCATION:The Cultural Centre\, 640 Dogwood Avenue\, Bird Island\, MN\, 55310\, United States
CATEGORIES:Community,Exhibitions
ORGANIZER;CN="Rosemary Glesener":MAILTO:rglesener@gmail.com
END:VEVENT
BEGIN:VEVENT
DTSTART;TZID=America/New_York:20230520T130000
DTEND;TZID=America/New_York:20230520T150000
DTSTAMP:20260425T122840
CREATED:20230215T215501Z
LAST-MODIFIED:20230215T215501Z
UID:7057-1684587600-1684594800@birdislandculture.com
SUMMARY:Artist Reception | Bonnie Lipinski Smith
DESCRIPTION:
URL:https://birdislandculture.com/event/artist-reception-bonnie-lipinski-smith/
LOCATION:The Cultural Centre\, 640 Dogwood Avenue\, Bird Island\, MN\, 55310\, United States
CATEGORIES:Artist Receptions,Community,Exhibitions
ORGANIZER;CN="Rosemary Glesener":MAILTO:rglesener@gmail.com
END:VEVENT
BEGIN:VEVENT
DTSTART;TZID=America/New_York:20230501T100000
DTEND;TZID=America/New_York:20230501T170000
DTSTAMP:20260425T122840
CREATED:20230215T215321Z
LAST-MODIFIED:20230215T215321Z
UID:7055-1682935200-1682960400@birdislandculture.com
SUMMARY:Bonnie Lipinski Smith Exhibition Opening
DESCRIPTION:
URL:https://birdislandculture.com/event/bonnie-lipinski-smith-exhibition-opening/
LOCATION:The Cultural Centre\, 640 Dogwood Avenue\, Bird Island\, MN\, 55310\, United States
CATEGORIES:Community,Exhibitions
END:VEVENT
BEGIN:VEVENT
DTSTART;TZID=America/New_York:20230422T130000
DTEND;TZID=America/New_York:20230422T150000
DTSTAMP:20260425T122840
CREATED:20230215T211714Z
LAST-MODIFIED:20230215T211714Z
UID:7017-1682168400-1682175600@birdislandculture.com
SUMMARY:Artist Reception | Bradley Donner
DESCRIPTION:
URL:https://birdislandculture.com/event/artist-reception-bradley-donner/
LOCATION:The Cultural Centre\, 640 Dogwood Avenue\, Bird Island\, MN\, 55310\, United States
CATEGORIES:Artist Receptions,Community,Exhibitions
ORGANIZER;CN="Rosemary Glesener":MAILTO:rglesener@gmail.com
END:VEVENT
BEGIN:VEVENT
DTSTART;TZID=America/New_York:20230404T100000
DTEND;TZID=America/New_York:20230404T170000
DTSTAMP:20260425T122840
CREATED:20230215T211341Z
LAST-MODIFIED:20230215T211341Z
UID:7012-1680602400-1680627600@birdislandculture.com
SUMMARY:Bradley Donner Exhibition Opening
DESCRIPTION:
URL:https://birdislandculture.com/event/bradley-donner-exhibition-opening/
LOCATION:The Cultural Centre\, 640 Dogwood Avenue\, Bird Island\, MN\, 55310\, United States
CATEGORIES:Community,Exhibitions
ORGANIZER;CN="Rosemary Glesener":MAILTO:rglesener@gmail.com
END:VEVENT
BEGIN:VEVENT
DTSTART;TZID=America/New_York:20230324T100000
DTEND;TZID=America/New_York:20230324T170000
DTSTAMP:20260425T122840
CREATED:20230215T194719Z
LAST-MODIFIED:20230215T194803Z
UID:6966-1679652000-1679677200@birdislandculture.com
SUMMARY:Justin Beck Exhibition Last Viewing Day
DESCRIPTION:The Cultural Centre in Bird Island is honored to present the works of Justin Beck. The exhibition will be available for viewing March 6th – March 24th\, Monday through Fridays 10a.m.- 5p.m.
URL:https://birdislandculture.com/event/justin-beck-last-viewing-day/
LOCATION:The Cultural Centre\, 640 Dogwood Avenue\, Bird Island\, MN\, 55310\, United States
CATEGORIES:Community,Exhibitions
ORGANIZER;CN="Rosemary Glesener":MAILTO:rglesener@gmail.com
END:VEVENT
BEGIN:VEVENT
DTSTART;TZID=America/New_York:20230306T100000
DTEND;TZID=America/New_York:20230306T170000
DTSTAMP:20260425T122840
CREATED:20230215T194004Z
LAST-MODIFIED:20230215T194426Z
UID:6959-1678096800-1678122000@birdislandculture.com
SUMMARY:Justin Beck 'Eulogies' Exhibition Opens
DESCRIPTION:The Cultural Centre in Bird Island is honored to present the works of Justin Beck. The exhibition will be available for viewing March 6th – March 24th\, Monday through Fridays 10a.m.- 5p.m.
URL:https://birdislandculture.com/event/justin-beck-eulogies-exhibition-opens/
LOCATION:The Cultural Centre\, 640 Dogwood Avenue\, Bird Island\, MN\, 55310\, United States
CATEGORIES:Community,Exhibitions
ORGANIZER;CN="Rosemary Glesener":MAILTO:rglesener@gmail.com
END:VEVENT
BEGIN:VEVENT
DTSTART;TZID=America/New_York:20230228T100000
DTEND;TZID=America/New_York:20230228T170000
DTSTAMP:20260425T122840
CREATED:20230215T175349Z
LAST-MODIFIED:20230215T175349Z
UID:6932-1677578400-1677603600@birdislandculture.com
SUMMARY:Last Day to View Celeste Suter Exhibition
DESCRIPTION:The Cultural Centre in Bird Island is honored to present the works of Celeste Suter. The exhibition of Yarn and Fiber Art will be available for viewing February 4th – February 28th Monday through Fridays 10a.m.-5p.m.
URL:https://birdislandculture.com/event/last-day-to-view-celeste-suter-exhibition/
LOCATION:The Cultural Centre\, 640 Dogwood Avenue\, Bird Island\, MN\, 55310\, United States
CATEGORIES:Community,Exhibitions
ATTACH;FMTTYPE=image/jpeg:https://birdislandculture.com/wp-content/uploads/2023/02/Suter-Event-Photo.jpg
ORGANIZER;CN="Rosemary Glesener":MAILTO:rglesener@gmail.com
END:VEVENT
BEGIN:VEVENT
DTSTART;TZID=America/New_York:20230211T130000
DTEND;TZID=America/New_York:20230211T150000
DTSTAMP:20260425T122840
CREATED:20230211T181816Z
LAST-MODIFIED:20230215T185503Z
UID:6936-1676120400-1676127600@birdislandculture.com
SUMMARY:Artist Reception | Celeste Suter
DESCRIPTION:Join us in welcoming Celeste Suter who will be demonstrating yard spinning\, as well as answering your questions and discussing her work. \nThe Cultural Centre in Bird Island is honored to present the works of Celeste Suter. The exhibition of Yarn and Fiber Art will be available for viewing February 4th – February 28th Monday through Fridays 10a.m.-5p.m.
URL:https://birdislandculture.com/event/artist-reception-celeste-suter/
LOCATION:The Cultural Centre\, 640 Dogwood Avenue\, Bird Island\, MN\, 55310\, United States
CATEGORIES:Artist Receptions,Community,Exhibitions
ATTACH;FMTTYPE=image/jpeg:https://birdislandculture.com/wp-content/uploads/2023/02/Suter-Head-Shot.jpg
ORGANIZER;CN="Rosemary Glesener":MAILTO:rglesener@gmail.com
END:VEVENT
BEGIN:VEVENT
DTSTART;TZID=America/New_York:20230206T100000
DTEND;TZID=America/New_York:20230206T170000
DTSTAMP:20260425T122840
CREATED:20230215T192407Z
LAST-MODIFIED:20230215T192407Z
UID:6941-1675677600-1675702800@birdislandculture.com
SUMMARY:Celeste Suter Exhibition Opens
DESCRIPTION:The Cultural Centre in Bird Island is honored to present the works of Celeste Suter. The exhibition of Yarn and Fiber Art will be available for viewing February 4th – February 28th Monday through Fridays 10a.m.- 5p.m.
URL:https://birdislandculture.com/event/celeste-suter-exhibition-opens/
LOCATION:The Cultural Centre\, 640 Dogwood Avenue\, Bird Island\, MN\, 55310\, United States
CATEGORIES:Community,Exhibitions
ATTACH;FMTTYPE=image/jpeg:https://birdislandculture.com/wp-content/uploads/2023/02/Suter-Event-Photo.jpg
ORGANIZER;CN="Rosemary Glesener":MAILTO:rglesener@gmail.com
END:VEVENT
BEGIN:VEVENT
DTSTART;VALUE=DATE:20190902
DTEND;VALUE=DATE:20190928
DTSTAMP:20260425T122840
CREATED:20190717T152005Z
LAST-MODIFIED:20190717T161350Z
UID:2230-1567382400-1569628799@birdislandculture.com
SUMMARY:Gathering Friends Quilt Exhibition
DESCRIPTION:
URL:https://birdislandculture.com/event/gathering-friends-quilt-exhibition/
LOCATION:The Cultural Centre\, 640 Dogwood Avenue\, Bird Island\, MN\, 55310\, United States
CATEGORIES:Exhibitions
END:VEVENT
BEGIN:VEVENT
DTSTART;TZID=America/New_York:20190817T140000
DTEND;TZID=America/New_York:20190817T170000
DTSTAMP:20260425T122840
CREATED:20190717T151840Z
LAST-MODIFIED:20190717T161424Z
UID:2228-1566050400-1566061200@birdislandculture.com
SUMMARY:John White Artist Reception
DESCRIPTION:
URL:https://birdislandculture.com/event/john-white-artist-reception/
LOCATION:The Cultural Centre\, 640 Dogwood Avenue\, Bird Island\, MN\, 55310\, United States
CATEGORIES:Artist Receptions,Exhibitions
END:VEVENT
END:VCALENDAR