BEGIN:VCALENDAR
VERSION:2.0
PRODID:-//Cultural Centre in Bird Island - ECPv6.15.20//NONSGML v1.0//EN
CALSCALE:GREGORIAN
METHOD:PUBLISH
X-WR-CALNAME:Cultural Centre in Bird Island
X-ORIGINAL-URL:https://birdislandculture.com
X-WR-CALDESC:Events for Cultural Centre in Bird Island
REFRESH-INTERVAL;VALUE=DURATION:PT1H
X-Robots-Tag:noindex
X-PUBLISHED-TTL:PT1H
BEGIN:VTIMEZONE
TZID:America/New_York
BEGIN:DAYLIGHT
TZOFFSETFROM:-0500
TZOFFSETTO:-0400
TZNAME:EDT
DTSTART:20180311T070000
END:DAYLIGHT
BEGIN:STANDARD
TZOFFSETFROM:-0400
TZOFFSETTO:-0500
TZNAME:EST
DTSTART:20181104T060000
END:STANDARD
BEGIN:DAYLIGHT
TZOFFSETFROM:-0500
TZOFFSETTO:-0400
TZNAME:EDT
DTSTART:20190310T070000
END:DAYLIGHT
BEGIN:STANDARD
TZOFFSETFROM:-0400
TZOFFSETTO:-0500
TZNAME:EST
DTSTART:20191103T060000
END:STANDARD
BEGIN:DAYLIGHT
TZOFFSETFROM:-0500
TZOFFSETTO:-0400
TZNAME:EDT
DTSTART:20200308T070000
END:DAYLIGHT
BEGIN:STANDARD
TZOFFSETFROM:-0400
TZOFFSETTO:-0500
TZNAME:EST
DTSTART:20201101T060000
END:STANDARD
BEGIN:DAYLIGHT
TZOFFSETFROM:-0500
TZOFFSETTO:-0400
TZNAME:EDT
DTSTART:20210314T070000
END:DAYLIGHT
BEGIN:STANDARD
TZOFFSETFROM:-0400
TZOFFSETTO:-0500
TZNAME:EST
DTSTART:20211107T060000
END:STANDARD
BEGIN:DAYLIGHT
TZOFFSETFROM:-0500
TZOFFSETTO:-0400
TZNAME:EDT
DTSTART:20220313T070000
END:DAYLIGHT
BEGIN:STANDARD
TZOFFSETFROM:-0400
TZOFFSETTO:-0500
TZNAME:EST
DTSTART:20221106T060000
END:STANDARD
BEGIN:DAYLIGHT
TZOFFSETFROM:-0500
TZOFFSETTO:-0400
TZNAME:EDT
DTSTART:20230312T070000
END:DAYLIGHT
BEGIN:STANDARD
TZOFFSETFROM:-0400
TZOFFSETTO:-0500
TZNAME:EST
DTSTART:20231105T060000
END:STANDARD
BEGIN:DAYLIGHT
TZOFFSETFROM:-0500
TZOFFSETTO:-0400
TZNAME:EDT
DTSTART:20240310T070000
END:DAYLIGHT
BEGIN:STANDARD
TZOFFSETFROM:-0400
TZOFFSETTO:-0500
TZNAME:EST
DTSTART:20241103T060000
END:STANDARD
END:VTIMEZONE
BEGIN:VEVENT
DTSTART;TZID=America/New_York:20230329T130000
DTEND;TZID=America/New_York:20230329T160000
DTSTAMP:20260425T175116
CREATED:20230215T210208Z
LAST-MODIFIED:20230215T210208Z
UID:7002-1680094800-1680105600@birdislandculture.com
SUMMARY:Bridge Club
DESCRIPTION:The Cultural Centre in Bird Island is fully accessible\, and dedicates Wednesdays and Thursdays to the elders of our community. These vibrant clubs enhance the social fabric of Bird Island\, Hector and Olivia. \nBridge Club gathers every Wednesday from 1-4PM in the main gallery at the Cultural Centre\, and Dominos Club meets every Thursday from 1-5PM. There is a simple free-will donation for these clubs and all are welcome to join! \nContact Rosemary at birdislandculture@gmail.com or call (320)365-1011 for more information on bringing your club to the Cultural Centre.
URL:https://birdislandculture.com/event/bridge-club-8/
LOCATION:The Cultural Centre\, 640 Dogwood Avenue\, Bird Island\, MN\, 55310\, United States
CATEGORIES:Bridge Club,Community
ORGANIZER;CN="Rosemary Glesener":MAILTO:rglesener@gmail.com
END:VEVENT
BEGIN:VEVENT
DTSTART;TZID=America/New_York:20230322T130000
DTEND;TZID=America/New_York:20230322T160000
DTSTAMP:20260425T175116
CREATED:20230215T210116Z
LAST-MODIFIED:20230215T210116Z
UID:7000-1679490000-1679500800@birdislandculture.com
SUMMARY:Bridge Club
DESCRIPTION:The Cultural Centre in Bird Island is fully accessible\, and dedicates Wednesdays and Thursdays to the elders of our community. These vibrant clubs enhance the social fabric of Bird Island\, Hector and Olivia. \nBridge Club gathers every Wednesday from 1-4PM in the main gallery at the Cultural Centre\, and Dominos Club meets every Thursday from 1-5PM. There is a simple free-will donation for these clubs and all are welcome to join! \nContact Rosemary at birdislandculture@gmail.com or call (320)365-1011 for more information on bringing your club to the Cultural Centre.
URL:https://birdislandculture.com/event/bridge-club-7/
LOCATION:The Cultural Centre\, 640 Dogwood Avenue\, Bird Island\, MN\, 55310\, United States
CATEGORIES:Bridge Club,Community
ORGANIZER;CN="Rosemary Glesener":MAILTO:rglesener@gmail.com
END:VEVENT
BEGIN:VEVENT
DTSTART;TZID=America/New_York:20230315T130000
DTEND;TZID=America/New_York:20230315T160000
DTSTAMP:20260425T175116
CREATED:20230215T210025Z
LAST-MODIFIED:20230215T210025Z
UID:6998-1678885200-1678896000@birdislandculture.com
SUMMARY:Bridge Club
DESCRIPTION:The Cultural Centre in Bird Island is fully accessible\, and dedicates Wednesdays and Thursdays to the elders of our community. These vibrant clubs enhance the social fabric of Bird Island\, Hector and Olivia. \nBridge Club gathers every Wednesday from 1-4PM in the main gallery at the Cultural Centre\, and Dominos Club meets every Thursday from 1-5PM. There is a simple free-will donation for these clubs and all are welcome to join! \nContact Rosemary at birdislandculture@gmail.com or call (320)365-1011 for more information on bringing your club to the Cultural Centre.
URL:https://birdislandculture.com/event/bridge-club-6/
LOCATION:The Cultural Centre\, 640 Dogwood Avenue\, Bird Island\, MN\, 55310\, United States
CATEGORIES:Bridge Club,Community
ORGANIZER;CN="Rosemary Glesener":MAILTO:rglesener@gmail.com
END:VEVENT
BEGIN:VEVENT
DTSTART;TZID=America/New_York:20230308T130000
DTEND;TZID=America/New_York:20230308T160000
DTSTAMP:20260425T175116
CREATED:20230215T194937Z
LAST-MODIFIED:20230215T205743Z
UID:6969-1678280400-1678291200@birdislandculture.com
SUMMARY:Bridge Club
DESCRIPTION:The Cultural Centre in Bird Island is fully accessible\, and dedicates Wednesdays and Thursdays to the elders of our community. These vibrant clubs enhance the social fabric of Bird Island\, Hector and Olivia. \nBridge Club gathers every Wednesday from 1-4PM in the main gallery at the Cultural Centre\, and Dominos Club meets every Thursday from 1-5PM. There is a simple free-will donation for these clubs and all are welcome to join! \nContact Rosemary at birdislandculture@gmail.com or call (320)365-1011 for more information on bringing your club to the Cultural Centre.
URL:https://birdislandculture.com/event/bridge-club-5/
LOCATION:The Cultural Centre\, 640 Dogwood Avenue\, Bird Island\, MN\, 55310\, United States
CATEGORIES:Bridge Club,Community
ORGANIZER;CN="Rosemary Glesener":MAILTO:rglesener@gmail.com
END:VEVENT
BEGIN:VEVENT
DTSTART;TZID=America/New_York:20230301T130000
DTEND;TZID=America/New_York:20230301T160000
DTSTAMP:20260425T175116
CREATED:20230215T193543Z
LAST-MODIFIED:20230215T193543Z
UID:6953-1677675600-1677686400@birdislandculture.com
SUMMARY:Bridge Club
DESCRIPTION:The Cultural Centre in Bird Island is fully accessible\, and dedicates Wednesdays and Thursdays to the elders of our community. These vibrant clubs enhance the social fabric of Bird Island\, Hector and Olivia. \nBridge Club gathers every Wednesday from 1-4PM in the main gallery at the Cultural Centre\, and Dominos Club meets every Thursday from 1-5PM. There is a simple free-will donation for these clubs and all are welcome to join! \nContact Rosemary at birdislandculture@gmail.com or call (320)365-1011 for more information on bringing your club to the Cultural Centre.
URL:https://birdislandculture.com/event/bridge-club-4/
LOCATION:The Cultural Centre\, 640 Dogwood Avenue\, Bird Island\, MN\, 55310\, United States
CATEGORIES:Bridge Club,Community
ORGANIZER;CN="Rosemary Glesener":MAILTO:rglesener@gmail.com
END:VEVENT
BEGIN:VEVENT
DTSTART;TZID=America/New_York:20230222T130000
DTEND;TZID=America/New_York:20230222T160000
DTSTAMP:20260425T175116
CREATED:20230215T171824Z
LAST-MODIFIED:20230215T171824Z
UID:6925-1677070800-1677081600@birdislandculture.com
SUMMARY:Bridge Club
DESCRIPTION:The Cultural Centre in Bird Island is fully accessible\, and dedicates Wednesdays and Thursdays to the elders of our community. These vibrant clubs enhance the social fabric of Bird Island\, Hector and Olivia. \nBridge Club gathers every Wednesday from 1-4PM in the main gallery at the Cultural Centre and Dominos Club meets every Thursday from 1-4PM. There is a simple free-will donation for these clubs and all are welcome to join! \nContact Rosemary at birdislandculture@gmail.com or call (320)365-1011 for more information on bringing your club to the Cultural Centre.
URL:https://birdislandculture.com/event/bridge-club-3/
LOCATION:The Cultural Centre\, 640 Dogwood Avenue\, Bird Island\, MN\, 55310\, United States
CATEGORIES:Bridge Club,Community
ORGANIZER;CN="Rosemary Glesener":MAILTO:rglesener@gmail.com
END:VEVENT
BEGIN:VEVENT
DTSTART;TZID=America/New_York:20230215T130000
DTEND;TZID=America/New_York:20230215T160000
DTSTAMP:20260425T175116
CREATED:20230214T201807Z
LAST-MODIFIED:20230215T164326Z
UID:6916-1676466000-1676476800@birdislandculture.com
SUMMARY:Bridge Club
DESCRIPTION:The Cultural Centre in Bird Island is fully accessible\, and dedicates Wednesdays and Thursdays to the elders of our community. These vibrant clubs enhance the social fabric of Bird Island\, Hector and Olivia. \nBridge Club gathers every Wednesday from 1-4PM in the main gallery at the Cultural Centre and Dominos Club meets every Thursday from 1-4PM. There is a simple free-will donation for these clubs and all are welcome to join! \nContact Rosemary at birdislandculture@gmail.com or call (320)365-1011 for more information on bringing your club to the Cultural Centre.
URL:https://birdislandculture.com/event/bridge-club-2/
LOCATION:The Cultural Centre\, 640 Dogwood Avenue\, Bird Island\, MN\, 55310\, United States
CATEGORIES:Bridge Club,Community
ORGANIZER;CN="Rosemary Glesener":MAILTO:rglesener@gmail.com
END:VEVENT
BEGIN:VEVENT
DTSTART;TZID=America/New_York:20190717T130000
DTEND;TZID=America/New_York:20190717T160000
DTSTAMP:20260425T175116
CREATED:20190717T135537Z
LAST-MODIFIED:20190717T161833Z
UID:2211-1563368400-1563379200@birdislandculture.com
SUMMARY:Bridge Club
DESCRIPTION:
URL:https://birdislandculture.com/event/bridge-club/
LOCATION:The Cultural Centre\, 640 Dogwood Avenue\, Bird Island\, MN\, 55310\, United States
CATEGORIES:Bridge Club,Community
END:VEVENT
END:VCALENDAR