BEGIN:VCALENDAR
VERSION:2.0
PRODID:-//Cultural Centre in Bird Island - ECPv6.15.20//NONSGML v1.0//EN
CALSCALE:GREGORIAN
METHOD:PUBLISH
X-WR-CALNAME:Cultural Centre in Bird Island
X-ORIGINAL-URL:https://birdislandculture.com
X-WR-CALDESC:Events for Cultural Centre in Bird Island
REFRESH-INTERVAL;VALUE=DURATION:PT1H
X-Robots-Tag:noindex
X-PUBLISHED-TTL:PT1H
BEGIN:VTIMEZONE
TZID:America/New_York
BEGIN:DAYLIGHT
TZOFFSETFROM:-0500
TZOFFSETTO:-0400
TZNAME:EDT
DTSTART:20180311T070000
END:DAYLIGHT
BEGIN:STANDARD
TZOFFSETFROM:-0400
TZOFFSETTO:-0500
TZNAME:EST
DTSTART:20181104T060000
END:STANDARD
BEGIN:DAYLIGHT
TZOFFSETFROM:-0500
TZOFFSETTO:-0400
TZNAME:EDT
DTSTART:20190310T070000
END:DAYLIGHT
BEGIN:STANDARD
TZOFFSETFROM:-0400
TZOFFSETTO:-0500
TZNAME:EST
DTSTART:20191103T060000
END:STANDARD
BEGIN:DAYLIGHT
TZOFFSETFROM:-0500
TZOFFSETTO:-0400
TZNAME:EDT
DTSTART:20200308T070000
END:DAYLIGHT
BEGIN:STANDARD
TZOFFSETFROM:-0400
TZOFFSETTO:-0500
TZNAME:EST
DTSTART:20201101T060000
END:STANDARD
BEGIN:DAYLIGHT
TZOFFSETFROM:-0500
TZOFFSETTO:-0400
TZNAME:EDT
DTSTART:20210314T070000
END:DAYLIGHT
BEGIN:STANDARD
TZOFFSETFROM:-0400
TZOFFSETTO:-0500
TZNAME:EST
DTSTART:20211107T060000
END:STANDARD
BEGIN:DAYLIGHT
TZOFFSETFROM:-0500
TZOFFSETTO:-0400
TZNAME:EDT
DTSTART:20220313T070000
END:DAYLIGHT
BEGIN:STANDARD
TZOFFSETFROM:-0400
TZOFFSETTO:-0500
TZNAME:EST
DTSTART:20221106T060000
END:STANDARD
BEGIN:DAYLIGHT
TZOFFSETFROM:-0500
TZOFFSETTO:-0400
TZNAME:EDT
DTSTART:20230312T070000
END:DAYLIGHT
BEGIN:STANDARD
TZOFFSETFROM:-0400
TZOFFSETTO:-0500
TZNAME:EST
DTSTART:20231105T060000
END:STANDARD
BEGIN:DAYLIGHT
TZOFFSETFROM:-0500
TZOFFSETTO:-0400
TZNAME:EDT
DTSTART:20240310T070000
END:DAYLIGHT
BEGIN:STANDARD
TZOFFSETFROM:-0400
TZOFFSETTO:-0500
TZNAME:EST
DTSTART:20241103T060000
END:STANDARD
BEGIN:DAYLIGHT
TZOFFSETFROM:-0500
TZOFFSETTO:-0400
TZNAME:EDT
DTSTART:20250309T070000
END:DAYLIGHT
BEGIN:STANDARD
TZOFFSETFROM:-0400
TZOFFSETTO:-0500
TZNAME:EST
DTSTART:20251102T060000
END:STANDARD
BEGIN:DAYLIGHT
TZOFFSETFROM:-0500
TZOFFSETTO:-0400
TZNAME:EDT
DTSTART:20260308T070000
END:DAYLIGHT
BEGIN:STANDARD
TZOFFSETFROM:-0400
TZOFFSETTO:-0500
TZNAME:EST
DTSTART:20261101T060000
END:STANDARD
END:VTIMEZONE
BEGIN:VEVENT
DTSTART;TZID=America/New_York:20250607T130000
DTEND;TZID=America/New_York:20250607T150000
DTSTAMP:20260424T114019
CREATED:20250527T181218Z
LAST-MODIFIED:20250527T181218Z
UID:10379-1749301200-1749308400@birdislandculture.com
SUMMARY:Doug Peterson Artist Reception
DESCRIPTION:Artist Reception | Saturday\, June 7\, 2025 | 1 pm – 3 pm
URL:https://birdislandculture.com/event/doug-peterson-artist-reception/
LOCATION:The Cultural Centre\, 640 Dogwood Avenue\, Bird Island\, MN\, 55310\, United States
CATEGORIES:Artist Receptions
ATTACH;FMTTYPE=image/jpeg:https://birdislandculture.com/wp-content/uploads/2025/05/20250527_094313-rotated.jpg
END:VEVENT
BEGIN:VEVENT
DTSTART;TZID=America/New_York:20250503T130000
DTEND;TZID=America/New_York:20250503T150000
DTSTAMP:20260424T114019
CREATED:20250430T171116Z
LAST-MODIFIED:20250430T171116Z
UID:10325-1746277200-1746284400@birdislandculture.com
SUMMARY:ME Fuller Artist Reception
DESCRIPTION:An Exploration of Inner Worlds Through Abstraction | Saturday | May 3\, 2025 | 1pm-3pm
URL:https://birdislandculture.com/event/me-fuller-artist-reception/
LOCATION:The Cultural Centre\, 640 Dogwood Avenue\, Bird Island\, MN\, 55310\, United States
CATEGORIES:Artist Receptions
ATTACH;FMTTYPE=image/jpeg:https://birdislandculture.com/wp-content/uploads/2025/04/IMG_6917.jpg
END:VEVENT
BEGIN:VEVENT
DTSTART;TZID=America/New_York:20241116T130000
DTEND;TZID=America/New_York:20241116T150000
DTSTAMP:20260424T114019
CREATED:20241111T205817Z
LAST-MODIFIED:20241111T205817Z
UID:9858-1731762000-1731769200@birdislandculture.com
SUMMARY:Tom and Sheila Jacobs Artist Reception
DESCRIPTION:“Stewards of Art and Earth”|Artist Reception: November 16th 1-3PM
URL:https://birdislandculture.com/event/tom-and-sheila-jacobs-artist-reception/
LOCATION:The Cultural Centre\, 640 Dogwood Avenue\, Bird Island\, MN\, 55310\, United States
CATEGORIES:Artist Receptions
ATTACH;FMTTYPE=image/png:https://birdislandculture.com/wp-content/uploads/2024/11/jacobs.png
END:VEVENT
BEGIN:VEVENT
DTSTART;TZID=America/New_York:20241019T130000
DTEND;TZID=America/New_York:20241019T150000
DTSTAMP:20260424T114019
CREATED:20241015T163720Z
LAST-MODIFIED:20241015T163720Z
UID:9752-1729342800-1729350000@birdislandculture.com
SUMMARY:Gerhardt Miller - Artist Reception
DESCRIPTION:Gerhardt Miller | Beauty\, Harmony\, and Proportion | October 19\, 2024 | 1pm – 3pm
URL:https://birdislandculture.com/event/gerhardt-miller-artist-reception/
LOCATION:The Cultural Centre\, 640 Dogwood Avenue\, Bird Island\, MN\, 55310\, United States
CATEGORIES:Artist Receptions
ATTACH;FMTTYPE=image/png:https://birdislandculture.com/wp-content/uploads/2024/10/2024.png
END:VEVENT
BEGIN:VEVENT
DTSTART;TZID=America/New_York:20240906T170000
DTEND;TZID=America/New_York:20240906T190000
DTSTAMP:20260424T114019
CREATED:20240905T014832Z
LAST-MODIFIED:20240905T014832Z
UID:9620-1725642000-1725649200@birdislandculture.com
SUMMARY:Olivia Hoppe - Artist's Reception
DESCRIPTION:The Sustainable Art of Olivia Hoppe \n“Connections” \nArtist’s Reception | September 6\, 2024 | 5pm-7pm
URL:https://birdislandculture.com/event/olivia-hoppe-artists-reception/
LOCATION:The Cultural Centre\, 640 Dogwood Avenue\, Bird Island\, MN\, 55310\, United States
CATEGORIES:Artist Receptions
ATTACH;FMTTYPE=image/png:https://birdislandculture.com/wp-content/uploads/2024/09/olivia-hoppe-work-1.png
END:VEVENT
BEGIN:VEVENT
DTSTART;TZID=America/New_York:20240817T130000
DTEND;TZID=America/New_York:20240817T150000
DTSTAMP:20260424T114019
CREATED:20240812T171558Z
LAST-MODIFIED:20240812T171558Z
UID:9493-1723899600-1723906800@birdislandculture.com
SUMMARY:ACTS:Breaking Barriers Artist Reception
DESCRIPTION:Artist Reception | August 17\, 2024 | 1pm-3pm
URL:https://birdislandculture.com/event/actsbreaking-barriers-artist-reception/
LOCATION:The Cultural Centre\, 640 Dogwood Avenue\, Bird Island\, MN\, 55310\, United States
CATEGORIES:Artist Receptions
ATTACH;FMTTYPE=image/png:https://birdislandculture.com/wp-content/uploads/2024/08/acts-demo-pic.png
END:VEVENT
BEGIN:VEVENT
DTSTART;TZID=America/New_York:20240511T130000
DTEND;TZID=America/New_York:20240511T150000
DTSTAMP:20260424T114019
CREATED:20240511T012302Z
LAST-MODIFIED:20240511T012302Z
UID:9370-1715432400-1715439600@birdislandculture.com
SUMMARY:John White & Jean Menden Artist Reception
DESCRIPTION:
URL:https://birdislandculture.com/event/john-white-jean-menden-artist-reception/
LOCATION:The Cultural Centre\, 640 Dogwood Avenue\, Bird Island\, MN\, 55310\, United States
CATEGORIES:Artist Receptions
ATTACH;FMTTYPE=image/jpeg:https://birdislandculture.com/wp-content/uploads/2024/05/may.jpg
END:VEVENT
BEGIN:VEVENT
DTSTART;TZID=America/New_York:20240420T130000
DTEND;TZID=America/New_York:20240420T150000
DTSTAMP:20260424T114019
CREATED:20240422T031743Z
LAST-MODIFIED:20240422T031743Z
UID:9278-1713618000-1713625200@birdislandculture.com
SUMMARY:Ron Adams Artist Reception
DESCRIPTION:Ron Adams \n“The Mastery of Drawing” \nExhibition: April 1st-27th \nArtist Reception: Saturday\, April 20th 1-3 pm
URL:https://birdislandculture.com/event/ron-adams-artist-reception/
LOCATION:The Cultural Centre\, 640 Dogwood Avenue\, Bird Island\, MN\, 55310\, United States
CATEGORIES:Artist Receptions,Exhibitions
ATTACH;FMTTYPE=image/jpeg:https://birdislandculture.com/wp-content/uploads/2024/04/Ron-Adams.jpg
END:VEVENT
BEGIN:VEVENT
DTSTART;TZID=America/New_York:20240316T130000
DTEND;TZID=America/New_York:20240316T150000
DTSTAMP:20260424T114019
CREATED:20240312T163854Z
LAST-MODIFIED:20240312T165048Z
UID:9041-1710594000-1710601200@birdislandculture.com
SUMMARY:Mark Haen Artist Reception
DESCRIPTION:“Curiosity in Action” Exhibition March 1st – March 27th. \nArtist Reception is on March 16\, 2024\, from 1 pm to 3 pm. \nMr. Haen will demonstrate his newest painting technique!
URL:https://birdislandculture.com/event/mark-haen-artist-reception/
LOCATION:The Cultural Centre\, 640 Dogwood Avenue\, Bird Island\, MN\, 55310\, United States
CATEGORIES:Artist Receptions,Exhibitions
ATTACH;FMTTYPE=image/png:https://birdislandculture.com/wp-content/uploads/2024/02/MarkHaen-e1710261280339.png
END:VEVENT
BEGIN:VEVENT
DTSTART;TZID=America/New_York:20231111T130000
DTEND;TZID=America/New_York:20231111T150000
DTSTAMP:20260424T114019
CREATED:20231103T230931Z
LAST-MODIFIED:20231109T150737Z
UID:7981-1699707600-1699714800@birdislandculture.com
SUMMARY:David Adams Artist Reception
DESCRIPTION:“David Adams was trained as a musician through his Master’s Degree at the University of Minnesota where he met his future wife\, Chris\, in the piano room at Middlebrook Hall. They settled in Bird Island in 1970 where David was the Band Director for 31 years. They had two children\, Matt and Alisha. They spent their summers on the North Shore of Lake Superior at Tofte where Chris’ parents owned a resort called Sugar Beach. \nOne of David’s earliest memories was painting in watercolors at around age five. He has three brothers\, two who are professional artists. Duane shows in galleries in Omaha and Ron paints murals in buildings in Willmar. David picked up a serious interest in drawing with pen and ink in the 1990’s. This turned into his self-training in 2001 when he retired from teaching. \nDavid has a special love and talent for watercolor painting. He concentrates on rural landscapes of Minnesota. The paintings in this show features the many works created in his 80’s recovering from a long period of illness. \nThey are impressionistic in style. During his career as an artist\, he has shown in works in a number of shows in Bird Island and Willmar. He has painted over a thousand watercolors over the last 22 years.” \nDavid Adams 7-22-23
URL:https://birdislandculture.com/event/david-adams-artist-reception/
LOCATION:The Cultural Centre\, 640 Dogwood Avenue\, Bird Island\, MN\, 55310\, United States
CATEGORIES:Artist Receptions
ATTACH;FMTTYPE=image/jpeg:https://birdislandculture.com/wp-content/uploads/2023/11/David-Adams-watercolor.jpg
ORGANIZER;CN="Rosemary Glesener":MAILTO:rglesener@gmail.com
END:VEVENT
BEGIN:VEVENT
DTSTART;TZID=America/New_York:20231001T130000
DTEND;TZID=America/New_York:20231001T150000
DTSTAMP:20260424T114019
CREATED:20230907T145227Z
LAST-MODIFIED:20230907T145255Z
UID:7704-1696165200-1696172400@birdislandculture.com
SUMMARY:Bill Vanderhagen Photography Exhibition Opening Day & Artist Reception
DESCRIPTION:We are incredibly excited to welcome Bill Vanderhagen back to the Cultural Centre for this incredible wildlife photography exhibition. We hope you’ll join us for his artist reception on Sunday\, October 1st from 1-3pm.
URL:https://birdislandculture.com/event/bill-vanderhagen-photography-exhibition-opening-day-artist-reception/
LOCATION:The Cultural Centre\, 640 Dogwood Avenue\, Bird Island\, MN\, 55310\, United States
CATEGORIES:Artist Receptions,Exhibitions
ATTACH;FMTTYPE=image/jpeg:https://birdislandculture.com/wp-content/uploads/2023/09/367463909_688703316629355_410028256070651221_n.jpg
ORGANIZER;CN="Rosemary Glesener":MAILTO:rglesener@gmail.com
END:VEVENT
BEGIN:VEVENT
DTSTART;TZID=America/New_York:20230520T130000
DTEND;TZID=America/New_York:20230520T150000
DTSTAMP:20260424T114019
CREATED:20230215T215501Z
LAST-MODIFIED:20230215T215501Z
UID:7057-1684587600-1684594800@birdislandculture.com
SUMMARY:Artist Reception | Bonnie Lipinski Smith
DESCRIPTION:
URL:https://birdislandculture.com/event/artist-reception-bonnie-lipinski-smith/
LOCATION:The Cultural Centre\, 640 Dogwood Avenue\, Bird Island\, MN\, 55310\, United States
CATEGORIES:Artist Receptions,Community,Exhibitions
ORGANIZER;CN="Rosemary Glesener":MAILTO:rglesener@gmail.com
END:VEVENT
BEGIN:VEVENT
DTSTART;TZID=America/New_York:20230422T130000
DTEND;TZID=America/New_York:20230422T150000
DTSTAMP:20260424T114019
CREATED:20230215T211714Z
LAST-MODIFIED:20230215T211714Z
UID:7017-1682168400-1682175600@birdislandculture.com
SUMMARY:Artist Reception | Bradley Donner
DESCRIPTION:
URL:https://birdislandculture.com/event/artist-reception-bradley-donner/
LOCATION:The Cultural Centre\, 640 Dogwood Avenue\, Bird Island\, MN\, 55310\, United States
CATEGORIES:Artist Receptions,Community,Exhibitions
ORGANIZER;CN="Rosemary Glesener":MAILTO:rglesener@gmail.com
END:VEVENT
BEGIN:VEVENT
DTSTART;TZID=America/New_York:20230318T130000
DTEND;TZID=America/New_York:20230318T150000
DTSTAMP:20260424T114019
CREATED:20230215T194357Z
LAST-MODIFIED:20230215T194454Z
UID:6962-1679144400-1679151600@birdislandculture.com
SUMMARY:Artist Reception- Justin Beck
DESCRIPTION:Join us in welcoming Justin Beck who will be here answering your questions and discussing his work! \nThe Cultural Centre in Bird Island is honored to present the works of Justin Beck. The exhibition will be available for viewing March 6th – March 24th\, Monday through Fridays 10a.m.- 5p.m.
URL:https://birdislandculture.com/event/artist-reception-justin-beck/
LOCATION:The Cultural Centre\, 640 Dogwood Avenue\, Bird Island\, MN\, 55310\, United States
CATEGORIES:Artist Receptions,Community
ORGANIZER;CN="Rosemary Glesener":MAILTO:rglesener@gmail.com
END:VEVENT
BEGIN:VEVENT
DTSTART;TZID=America/New_York:20230211T130000
DTEND;TZID=America/New_York:20230211T150000
DTSTAMP:20260424T114019
CREATED:20230211T181816Z
LAST-MODIFIED:20230215T185503Z
UID:6936-1676120400-1676127600@birdislandculture.com
SUMMARY:Artist Reception | Celeste Suter
DESCRIPTION:Join us in welcoming Celeste Suter who will be demonstrating yard spinning\, as well as answering your questions and discussing her work. \nThe Cultural Centre in Bird Island is honored to present the works of Celeste Suter. The exhibition of Yarn and Fiber Art will be available for viewing February 4th – February 28th Monday through Fridays 10a.m.-5p.m.
URL:https://birdislandculture.com/event/artist-reception-celeste-suter/
LOCATION:The Cultural Centre\, 640 Dogwood Avenue\, Bird Island\, MN\, 55310\, United States
CATEGORIES:Artist Receptions,Community,Exhibitions
ATTACH;FMTTYPE=image/jpeg:https://birdislandculture.com/wp-content/uploads/2023/02/Suter-Head-Shot.jpg
ORGANIZER;CN="Rosemary Glesener":MAILTO:rglesener@gmail.com
END:VEVENT
BEGIN:VEVENT
DTSTART;TZID=America/New_York:20200810T100000
DTEND;TZID=America/New_York:20200829T170000
DTSTAMP:20260424T114019
CREATED:20200301T182308Z
LAST-MODIFIED:20200810T195639Z
UID:2535-1597053600-1598720400@birdislandculture.com
SUMMARY:Sharon Hagford Gallery Exhibition
DESCRIPTION:Photographer Sharon Hagford\, Sacred Heart\, Minnesota\, is exhibiting through August 29th. Sharon’s Exhibition entitled\, ” The Photograph: A Merging of Eye and Soul” encompasses images from her travels with her husband and the relationship she forms with her subject through wisdom and the camera lens.
URL:https://birdislandculture.com/event/sharon-hagford-gallery-exhibition/
LOCATION:The Cultural Centre\, 640 Dogwood Avenue\, Bird Island\, MN\, 55310\, United States
CATEGORIES:Artist Receptions
ATTACH;FMTTYPE=image/jpeg:https://birdislandculture.com/wp-content/uploads/2020/03/Sharon-Hagford-Eagle.jpg
ORGANIZER;CN="Rosemary Glesener":MAILTO:rglesener@gmail.com
END:VEVENT
BEGIN:VEVENT
DTSTART;TZID=America/New_York:20190817T140000
DTEND;TZID=America/New_York:20190817T170000
DTSTAMP:20260424T114019
CREATED:20190717T151840Z
LAST-MODIFIED:20190717T161424Z
UID:2228-1566050400-1566061200@birdislandculture.com
SUMMARY:John White Artist Reception
DESCRIPTION:
URL:https://birdislandculture.com/event/john-white-artist-reception/
LOCATION:The Cultural Centre\, 640 Dogwood Avenue\, Bird Island\, MN\, 55310\, United States
CATEGORIES:Artist Receptions,Exhibitions
END:VEVENT
BEGIN:VEVENT
DTSTART;VALUE=DATE:20190629
DTEND;VALUE=DATE:20190730
DTSTAMP:20260424T114019
CREATED:20190717T152423Z
LAST-MODIFIED:20190717T161212Z
UID:2232-1561766400-1564444799@birdislandculture.com
SUMMARY:The Fine Art of Renae Saunders Exhibition
DESCRIPTION:We encourage you to view the Watercolor Exhibition of Renae Saunders. Each painting inspires your story & encourages you to cherish those treasured moments of your life. An artist reception will take place on June 29th from 2-5pm.
URL:https://birdislandculture.com/event/the-fine-art-of-renae-saunders-exhibition/
LOCATION:The Cultural Centre\, 640 Dogwood Avenue\, Bird Island\, MN\, 55310\, United States
CATEGORIES:Artist Receptions,Exhibitions
END:VEVENT
END:VCALENDAR